BEGIN:VCALENDAR
VERSION:2.0
PRODID:-//Bob Jones Martial Arts - ECPv6.15.20//NONSGML v1.0//EN
CALSCALE:GREGORIAN
METHOD:PUBLISH
X-WR-CALNAME:Bob Jones Martial Arts
X-ORIGINAL-URL:https://bjma.com.au
X-WR-CALDESC:Events for Bob Jones Martial Arts
REFRESH-INTERVAL;VALUE=DURATION:PT1H
X-Robots-Tag:noindex
X-PUBLISHED-TTL:PT1H
BEGIN:VTIMEZONE
TZID:Australia/Melbourne
BEGIN:STANDARD
TZOFFSETFROM:+1100
TZOFFSETTO:+1000
TZNAME:AEST
DTSTART:20200404T160000
END:STANDARD
BEGIN:DAYLIGHT
TZOFFSETFROM:+1000
TZOFFSETTO:+1100
TZNAME:AEDT
DTSTART:20201003T160000
END:DAYLIGHT
BEGIN:STANDARD
TZOFFSETFROM:+1100
TZOFFSETTO:+1000
TZNAME:AEST
DTSTART:20210403T160000
END:STANDARD
BEGIN:DAYLIGHT
TZOFFSETFROM:+1000
TZOFFSETTO:+1100
TZNAME:AEDT
DTSTART:20211002T160000
END:DAYLIGHT
BEGIN:STANDARD
TZOFFSETFROM:+1100
TZOFFSETTO:+1000
TZNAME:AEST
DTSTART:20220402T160000
END:STANDARD
BEGIN:DAYLIGHT
TZOFFSETFROM:+1000
TZOFFSETTO:+1100
TZNAME:AEDT
DTSTART:20221001T160000
END:DAYLIGHT
END:VTIMEZONE
BEGIN:VEVENT
DTSTART;TZID=Australia/Melbourne:20210605T090000
DTEND;TZID=Australia/Melbourne:20210605T162000
DTSTAMP:20260425T004825
CREATED:20201130T024745Z
LAST-MODIFIED:20210603T000641Z
UID:9375-1622883600-1622910000@bjma.com.au
SUMMARY:Cancelled due to Covid restrictions - BJMA 50 YEAR - Training Extravaganza
DESCRIPTION:For more information go to www.BJMAvic.com/2020 \nBOOK NOW www.trybooking.com/BHVMU
URL:https://bjma.com.au/event/bjma-50-year-training-extravaganza/
LOCATION:Melbourne Sports & Aquatic Centre\, 30 Aughtie Dve\,\, Albert Park\, Victoria\, Australia
ATTACH;FMTTYPE=image/png:https://bjma.com.au/wp-content/uploads/2020/11/Training-Extravaganza-2021.png
END:VEVENT
END:VCALENDAR