BEGIN:VCALENDAR
VERSION:2.0
PRODID:-//Bob Jones Martial Arts - ECPv6.15.20//NONSGML v1.0//EN
CALSCALE:GREGORIAN
METHOD:PUBLISH
X-WR-CALNAME:Bob Jones Martial Arts
X-ORIGINAL-URL:https://bjma.com.au
X-WR-CALDESC:Events for Bob Jones Martial Arts
REFRESH-INTERVAL;VALUE=DURATION:PT1H
X-Robots-Tag:noindex
X-PUBLISHED-TTL:PT1H
BEGIN:VTIMEZONE
TZID:Australia/Melbourne
BEGIN:STANDARD
TZOFFSETFROM:+1100
TZOFFSETTO:+1000
TZNAME:AEST
DTSTART:20200404T160000
END:STANDARD
BEGIN:DAYLIGHT
TZOFFSETFROM:+1000
TZOFFSETTO:+1100
TZNAME:AEDT
DTSTART:20201003T160000
END:DAYLIGHT
BEGIN:STANDARD
TZOFFSETFROM:+1100
TZOFFSETTO:+1000
TZNAME:AEST
DTSTART:20210403T160000
END:STANDARD
BEGIN:DAYLIGHT
TZOFFSETFROM:+1000
TZOFFSETTO:+1100
TZNAME:AEDT
DTSTART:20211002T160000
END:DAYLIGHT
BEGIN:STANDARD
TZOFFSETFROM:+1100
TZOFFSETTO:+1000
TZNAME:AEST
DTSTART:20220402T160000
END:STANDARD
BEGIN:DAYLIGHT
TZOFFSETFROM:+1000
TZOFFSETTO:+1100
TZNAME:AEDT
DTSTART:20221001T160000
END:DAYLIGHT
END:VTIMEZONE
BEGIN:VEVENT
DTSTART;VALUE=DATE:20210723
DTEND;VALUE=DATE:20210726
DTSTAMP:20260425T003236
CREATED:20201117T233845Z
LAST-MODIFIED:20201124T013234Z
UID:9307-1626998400-1627257599@bjma.com.au
SUMMARY:BJMA East Coast Camp 2021
DESCRIPTION:See BJMA East Coast Facebook page for further details
URL:https://bjma.com.au/event/bjma-east-coast-camp-2021/
LOCATION:ALEXANDER PARK CONFERENCE CENTRE\, 13 MARI ST\, ALEXANDRA HEADLANDS\, QUEENSLAND\, Australia
ATTACH;FMTTYPE=image/jpeg:https://bjma.com.au/wp-content/uploads/2020/11/BJMA-EAST-COAST.jpg
END:VEVENT
END:VCALENDAR