BEGIN:VCALENDAR
VERSION:2.0
PRODID:-//Bob Jones Martial Arts - ECPv6.15.20//NONSGML v1.0//EN
CALSCALE:GREGORIAN
METHOD:PUBLISH
X-WR-CALNAME:Bob Jones Martial Arts
X-ORIGINAL-URL:https://bjma.com.au
X-WR-CALDESC:Events for Bob Jones Martial Arts
REFRESH-INTERVAL;VALUE=DURATION:PT1H
X-Robots-Tag:noindex
X-PUBLISHED-TTL:PT1H
BEGIN:VTIMEZONE
TZID:Australia/Melbourne
BEGIN:STANDARD
TZOFFSETFROM:+1100
TZOFFSETTO:+1000
TZNAME:AEST
DTSTART:20200404T160000
END:STANDARD
BEGIN:DAYLIGHT
TZOFFSETFROM:+1000
TZOFFSETTO:+1100
TZNAME:AEDT
DTSTART:20201003T160000
END:DAYLIGHT
BEGIN:STANDARD
TZOFFSETFROM:+1100
TZOFFSETTO:+1000
TZNAME:AEST
DTSTART:20210403T160000
END:STANDARD
BEGIN:DAYLIGHT
TZOFFSETFROM:+1000
TZOFFSETTO:+1100
TZNAME:AEDT
DTSTART:20211002T160000
END:DAYLIGHT
BEGIN:STANDARD
TZOFFSETFROM:+1100
TZOFFSETTO:+1000
TZNAME:AEST
DTSTART:20220402T160000
END:STANDARD
BEGIN:DAYLIGHT
TZOFFSETFROM:+1000
TZOFFSETTO:+1100
TZNAME:AEDT
DTSTART:20221001T160000
END:DAYLIGHT
END:VTIMEZONE
BEGIN:VEVENT
DTSTART;TZID=Australia/Melbourne:20210711T103000
DTEND;TZID=Australia/Melbourne:20210711T133000
DTSTAMP:20260425T004050
CREATED:20201222T003035Z
LAST-MODIFIED:20210622T110711Z
UID:9411-1625999400-1626010200@bjma.com.au
SUMMARY:Victorian Training Day - 11 July 2021
DESCRIPTION:**Dates are subject to change depending on the current COVID-19 situation \n 
URL:https://bjma.com.au/event/victorian-proposed-training-days-2021-2/
LOCATION:SPRINGERS LEISURE CENTRE\, 400 Cheltenham Road\, Keysborough\, VIC\, 3173\, Australia
ATTACH;FMTTYPE=image/png:https://bjma.com.au/wp-content/uploads/2020/12/bjma-vic-events.png
END:VEVENT
END:VCALENDAR