BEGIN:VCALENDAR
VERSION:2.0
PRODID:-//Bob Jones Martial Arts - ECPv6.15.20//NONSGML v1.0//EN
CALSCALE:GREGORIAN
METHOD:PUBLISH
X-WR-CALNAME:Bob Jones Martial Arts
X-ORIGINAL-URL:https://bjma.com.au
X-WR-CALDESC:Events for Bob Jones Martial Arts
REFRESH-INTERVAL;VALUE=DURATION:PT1H
X-Robots-Tag:noindex
X-PUBLISHED-TTL:PT1H
BEGIN:VTIMEZONE
TZID:Australia/Melbourne
BEGIN:STANDARD
TZOFFSETFROM:+1100
TZOFFSETTO:+1000
TZNAME:AEST
DTSTART:20250405T160000
END:STANDARD
BEGIN:DAYLIGHT
TZOFFSETFROM:+1000
TZOFFSETTO:+1100
TZNAME:AEDT
DTSTART:20251004T160000
END:DAYLIGHT
BEGIN:STANDARD
TZOFFSETFROM:+1100
TZOFFSETTO:+1000
TZNAME:AEST
DTSTART:20260404T160000
END:STANDARD
BEGIN:DAYLIGHT
TZOFFSETFROM:+1000
TZOFFSETTO:+1100
TZNAME:AEDT
DTSTART:20261003T160000
END:DAYLIGHT
BEGIN:STANDARD
TZOFFSETFROM:+1100
TZOFFSETTO:+1000
TZNAME:AEST
DTSTART:20270403T160000
END:STANDARD
BEGIN:DAYLIGHT
TZOFFSETFROM:+1000
TZOFFSETTO:+1100
TZNAME:AEDT
DTSTART:20271002T160000
END:DAYLIGHT
END:VTIMEZONE
BEGIN:VEVENT
DTSTART;VALUE=DATE:20260417
DTEND;VALUE=DATE:20260423
DTSTAMP:20260422T183832
CREATED:20251218T033714Z
LAST-MODIFIED:20251218T033714Z
UID:13023-1776384000-1776902399@bjma.com.au
SUMMARY:BJMA KRAV MAGE FIREARMS COURSE
DESCRIPTION:THAILAND FIREARMS COURSE with Bill Foukas
URL:https://bjma.com.au/event/bjma-krav-mage-firearms-course/
LOCATION:VICTORIA
ATTACH;FMTTYPE=image/jpeg:https://bjma.com.au/wp-content/uploads/2025/12/498203441_3233550166800734_7242092384547146068_n.jpg
END:VEVENT
END:VCALENDAR